BEGIN:VCALENDAR
VERSION:2.0
PRODID:-//Infomundo Negocios - ECPv6.15.13//NONSGML v1.0//EN
CALSCALE:GREGORIAN
METHOD:PUBLISH
X-WR-CALNAME:Infomundo Negocios
X-ORIGINAL-URL:https://infomundonegocios.com
X-WR-CALDESC:Eventos para Infomundo Negocios
REFRESH-INTERVAL;VALUE=DURATION:PT1H
X-Robots-Tag:noindex
X-PUBLISHED-TTL:PT1H
BEGIN:VTIMEZONE
TZID:America/New_York
BEGIN:DAYLIGHT
TZOFFSETFROM:-0500
TZOFFSETTO:-0400
TZNAME:EDT
DTSTART:20230312T070000
END:DAYLIGHT
BEGIN:STANDARD
TZOFFSETFROM:-0400
TZOFFSETTO:-0500
TZNAME:EST
DTSTART:20231105T060000
END:STANDARD
BEGIN:DAYLIGHT
TZOFFSETFROM:-0500
TZOFFSETTO:-0400
TZNAME:EDT
DTSTART:20240310T070000
END:DAYLIGHT
BEGIN:STANDARD
TZOFFSETFROM:-0400
TZOFFSETTO:-0500
TZNAME:EST
DTSTART:20241103T060000
END:STANDARD
BEGIN:DAYLIGHT
TZOFFSETFROM:-0500
TZOFFSETTO:-0400
TZNAME:EDT
DTSTART:20250309T070000
END:DAYLIGHT
BEGIN:STANDARD
TZOFFSETFROM:-0400
TZOFFSETTO:-0500
TZNAME:EST
DTSTART:20251102T060000
END:STANDARD
END:VTIMEZONE
BEGIN:VTIMEZONE
TZID:America/Lima
BEGIN:STANDARD
TZOFFSETFROM:-0500
TZOFFSETTO:-0500
TZNAME:-05
DTSTART:20220101T000000
END:STANDARD
END:VTIMEZONE
BEGIN:VEVENT
DTSTART;TZID=America/New_York:20241016T100000
DTEND;TZID=America/New_York:20241018T200000
DTSTAMP:20260420T185813
CREATED:20240930T173435Z
LAST-MODIFIED:20240930T173435Z
UID:1552-1729072800-1729281600@infomundonegocios.com
SUMMARY:TECNOSALUD
DESCRIPTION:Tecnosalud es la feria más importante de proveedores del sector salud en Perú. Organizada por la Cámara de Comercio de Lima\, reúne a empresas nacionales e internacionales más importantes del sector\, punto de encuentro para fabricantes\, distribuidores y profesionales del sector\, facilitando redes\, conocimientos y negocios. Además\, se desarrollan conferencias y ronda tecnológica para enriquecer la experiencia de los participantes.
URL:https://infomundonegocios.com/curso-y-evento/tecnosalud/
LOCATION:Parque de la Exposición\, Av. 28 de Julio S/N\, Lima\, Lima\, 15082\, Perú
CATEGORIES:Evento Presencial
ATTACH;FMTTYPE=image/jpeg:https://infomundonegocios.com/wp-content/uploads/2024/09/TECNO-SALUD-2024.Infomundo-Negocios.jpg
ORGANIZER;CN="CCL - C%C3%A1mara de Comercio de Lima":MAILTO:ccl@camaralima.org.pe
END:VEVENT
BEGIN:VEVENT
DTSTART;TZID=America/New_York:20241016T090000
DTEND;TZID=America/New_York:20241018T190000
DTSTAMP:20260420T185813
CREATED:20240930T155528Z
LAST-MODIFIED:20241110T171045Z
UID:1542-1729069200-1729278000@infomundonegocios.com
SUMMARY:EXPO AGUA & SOSTENIBILIDAD
DESCRIPTION:Expo Agua y Sostenibilidad Perú se ha consolidado como la principal plataforma de encuentro entre la oferta y la demanda de soluciones para el desarrollo sostenible del Perú\, teniendo al #agua\, #saneamiento\, #sostenibilidadambiental \, gestión de residuos sólidos\, energías limpias y responsabilidad empresarial como ejes centrales. \n\nConsta de pabellones con stands para la exhibición de empresas\, entidades de gobierno y la cooperación internacional y\, durante los tres días del evento\, se desarrolla un programa variado y atractivo combinando conferencias magistrales\, mesas redondas\, charlas comerciales\, programas de articulación empresarial\, capacitaciones y activaciones diversas desde temas técnicos\, cultura medioambiental hasta degustaciones o experiencias.\n\n\nEl evento ha sido declarado como “Evento de Interés Nacional” por el MVCS en reiteradas oportunidades y “Feria Internacional” por el MINCETUR\n\n\nCOMPRAR ENTRADAS
URL:https://infomundonegocios.com/curso-y-evento/expo-agua-sostenibilidad/
LOCATION:Centro de Exposiciones Jockey\, Lima\, Peru\, Av. Javier Prado Este cruce con carretera Panamericana Sur S/N \, alt. Puerta 1 Hipódromo de Monterrico\, Parcela l\, Santiago de Surco\, Lima\, Perú — Lima\, 15023\, Perú
CATEGORIES:Evento Presencial
ORGANIZER;CN="CCA - Centro de Competenecias del Agua":MAILTO:info@cca.org.pe
END:VEVENT
BEGIN:VEVENT
DTSTART;VALUE=DATE:20240822
DTEND;VALUE=DATE:20240825
DTSTAMP:20260420T185813
CREATED:20240603T173010Z
LAST-MODIFIED:20240603T173010Z
UID:1427-1724284800-1724543999@infomundonegocios.com
SUMMARY:EXPOSIMIN 2024
DESCRIPTION:EXPOSIMIM 2024 ofrece una alta gama de expositores los cuales cuentan con una amplia experiencia en el sector minero e industrial\, además permite networking con profesionales y empresarios de este rubro y aprovechar las nuevas tecnologías y el impacto en la minería. \nLos invitamos a ser parte de EXPOSIMIM 2024 y conocer los maravillosos lugares\, costumbres y tradiciones que ofrece el centro del Perú. \n«Explora\, Aprende y Conéctate en la III Edición de Exposimim» Descubre oportunidades de networking\, asiste a charlas inspiradoras y amplía tus conocimientos en Exposimim 2024. \n🗓️ Del 22 al 24 de agosto del 2024 en la ciudad de Huancayo.\n🟢 WhatsApp: 957606722
URL:https://infomundonegocios.com/curso-y-evento/exposimin-2024/
LOCATION:Campus del Instituto de Cajas\, Av. Mariscal Castilla 233\, San Agustín de Cajas\, Huancayo\, 12100\, Perú
CATEGORIES:Evento Presencial
ATTACH;FMTTYPE=image/jpeg:https://infomundonegocios.com/wp-content/uploads/2024/06/EXPOSIMIN-2024.Infomundo-Negocios.jpg
ORGANIZER;CN="SIMIM - Sociedad Internacional de Miner%C3%ADa y Metalurgia":MAILTO:inscripciones@simim.org
END:VEVENT
BEGIN:VEVENT
DTSTART;VALUE=DATE:20240610
DTEND;VALUE=DATE:20240612
DTSTAMP:20260420T185813
CREATED:20240529T041951Z
LAST-MODIFIED:20240529T042401Z
UID:1416-1717977600-1718150399@infomundonegocios.com
SUMMARY:Cumbre de Municipios de Latinoamérica
DESCRIPTION:La Cumbre de Municipios de Latinoamérica reúne a líderes municipales\, expertos en desarrollo sostenible y representantes de organizaciones internacionales para abordar las desigualdades en nuestras ciudades y promover la implementación de los Objetivos de Desarrollo Sostenible (ODS)\n\n\n#CumbreMunicipiosLatinoamérica #ODS #Desigualdades #DesarrolloSostenible #FEMULP\n\n\n\n Inscripción: https://femulp.org/inscripcion
URL:https://infomundonegocios.com/curso-y-evento/cumbre-de-municipios-de-latinoamerica/
LOCATION:Auditorio del Hotel San Agustín Exclusive\, Calle San Martín 550 Miraflores\, Lima\, 15046\, Perú
CATEGORIES:Evento Presencial
ATTACH;FMTTYPE=image/jpeg:https://infomundonegocios.com/wp-content/uploads/2024/05/INVITACION-CUMBRE-FEMULP.Infomundo-Negocios.jpg
ORGANIZER;CN="FEMULP - Federeaci%C3%B3n de Municipalidades Libres el Per%C3%BA":MAILTO:femulp@femulp.org
END:VEVENT
BEGIN:VEVENT
DTSTART;TZID=America/New_York:20240515T120000
DTEND;TZID=America/New_York:20240517T190000
DTSTAMP:20260420T185813
CREATED:20240516T153209Z
LAST-MODIFIED:20240516T153209Z
UID:1390-1715774400-1715972400@infomundonegocios.com
SUMMARY:EXPO PROVEEDORES 2024
DESCRIPTION:Expo Proveedores Perú\, es el escenario ideal para dar a conocer las alternativas disponibles que los distintos proveedores pueden brindar para atender las necesidades de compra del Estado\, generándose un intercambio productivo de información\, a la par que permitirá promover un mayor dinamismo en los procesos de contratación e impulsar oportunidades para el crecimiento y competitividad de las empresas peruanas\, lo que redundará en beneficios para el país. \nConvirtiéndose en la mejor oportunidad\, para que transparentemente se establezca contacto entre expositores y asistentes\, a la vez\, que se promueve una contratación pública\, proba y efectiva. \n\n¿No sabes cómo llegar a #ExpoProveedores2024? \n\n\n¡En este croquis podrás encontrar todos los accesos a nuestra gran feria!\n\n\nDel 15 al 17 de Mayo en el Centro de Exposiciones Jockey\n\n\n Te esperamos desde las 12:00 P.M. a 7:00 P.M.
URL:https://infomundonegocios.com/curso-y-evento/expo-proveedores-2024/
LOCATION:Centro de Exposiciones Jockey\, Lima\, Peru\, Av. Javier Prado Este cruce con carretera Panamericana Sur S/N \, alt. Puerta 1 Hipódromo de Monterrico\, Parcela l\, Santiago de Surco\, Lima\, Perú — Lima\, 15023\, Perú
CATEGORIES:Evento Presencial
ATTACH;FMTTYPE=image/jpeg:https://infomundonegocios.com/wp-content/uploads/2024/05/EXPO-PROVEEDORES-2024.Infomundo-Negocios.jpg
ORGANIZER;CN="Per%C3%BA Ferias":MAILTO:ventas@infomundonegocios.com
END:VEVENT
BEGIN:VEVENT
DTSTART;TZID=America/Lima:20231118T180000
DTEND;TZID=America/Lima:20231118T233000
DTSTAMP:20260420T185813
CREATED:20231111T214851Z
LAST-MODIFIED:20231112T002422Z
UID:1362-1700330400-1700350200@infomundonegocios.com
SUMMARY:Miss Perú Turismo 2023
DESCRIPTION:Este certamen de belleza Miss Perú Turismo 2023 tiene por finalidad resaltar la belleza peruana y a través de ella desatacar la invaluable inteligencia y conocimiento que todas las mujeres de nuestro país poseen; una nueva mirada queremos desarrollar\, impulsando la importancia de la salud mental en esta nueva era\, donde las mujeres necesitan de mas mujeres para liderar y demostrar fortaleza y actitud hacia la vida\, sumemos más voces de mujeres hacia la NO violencia de maltrato psicológico\, porque todas las mujeres son capaces de lograr el equilibrio emocional saliendo del estrés y la depresión. “No al maltrato psicológico\, hoy decidí salir adelante porque me amo y me valoro” nuestra frase es “Menos dolor y Mas Amor”. \nhttps://fb.watch/ofQT2CBUlQ/
URL:https://infomundonegocios.com/curso-y-evento/miss-peru-turismo-2023/
LOCATION:Plaza Los Libertadores\, Plaza Los Libertadores\, Lima\, Perú — Lima\, 03\, Perú
CATEGORIES:Evento Presencial
ATTACH;FMTTYPE=image/jpeg:https://infomundonegocios.com/wp-content/uploads/2023/11/Miss-Peru-Turismo-2023.Infomundo-Negocios.jpg
ORGANIZER;CN="OLATUR - Organizaci%C3%B3n Latinoamericana de Turismo":MAILTO:missperuturismo2023@gmail.com
END:VEVENT
END:VCALENDAR